BEGIN:VCALENDAR
PRODID:-//hacksw/handcal//NONSGML v1.0//EN
VERSION:2.0
METHOD:PUBLISH
BEGIN:VEVENT
DTSTART:20140829T033000Z
DTEND:20140829T063000Z
LOCATION:HASR Bistro-2nd Floor
UID:1038620140829T033000ZAnnual Night Out - Member + 1
DTSTAMP:20260420T085113Z
DESCRIPTION:\n31 N. Pauahi Street, Honolulu  HI  96813\n See attached map.\n \nParking entrance to the underground Municipal parking lot is from Beretania Street only.  (For more information, visit their website:  http://www.hasrbistro.com)\n \nJoin us for heavy pupus, wine tasting and beer\n \nEntertainment by Hot Club of Hullaville\n (donated by Stephen Reese, Esq.)\n \nRSVP by Tuesday, August 19, 2014\n \nCall 521-4015, opt. 1, OR e-mail hepcouncil@hotmail.com\n ------\n\nI WILL BE ATTENDING\n \n\n Print Member's Name:  ____________________________     Tel. ______________\n \n\n Print Guest's Name:  _________________________________________________\n \n\n Additional Guests at $60 each:\n\n Print Name:  _______________________________________________________\n \nPlease send additional guest(s) fees by August 19, 2014 ($60 per person) payable to\n HEPC, P. O. Box 1227, Honolulu, HI 9607.\n \nIt is the Council’s policy to charge a $60 no-show fee to a member and non-paying guest who makes a reservation and fails to attend.\n
SUMMARY:Annual Night Out - Member + 1 - Hawaii Estate Planning Council 
PRIORITY:3
BEGIN:VALARM
TRIGGER:PT18H
ACTION:DISPLAY
DESCRIPTION:Reminder
END:VALARM
END:VEVENT
END:VCALENDAR