BEGIN:VCALENDAR
PRODID:-//hacksw/handcal//NONSGML v1.0//EN
VERSION:2.0
METHOD:PUBLISH
BEGIN:VEVENT
DTSTART:20150828T033000Z
DTEND:20150828T063000Z
LOCATION:3660 on the Rise
UID:1151320150828T033000ZMember + 1 Event
DTSTAMP:20260423T082703Z
DESCRIPTION:\n \n3660 Waialae Avenue, Honolulu  HI  96816\n Parking:  $1.00 after 5:00 pm.\n \nJoin us for Food, Wine, Beer and Entertainment\n \nRSVP by Thursday, August 20, 2015\n \nCall 521-4015, opt. 1, OR e-mail hepcouncil@hotmail.com\n(If mailing in your RSVP with your payment, please call or email as well).\n ------\n\nI WILL BE ATTENDING\n \n\n Print Member's Name:  ____________________________     Tel. ______________\n \n\n Print Guest's Name:  _________________________________________________\n \n\n Additional Guests at $60 each:\n\n Print Name:  _______________________________________________________\n \nPlease send additional guest(s) fees by August 20, 2015 ($60 per person) payable to\n HEPC, P. O. Box 1227, Honolulu, HI 9607.\n \nIt is the Council’s policy to charge a $60 no-show fee to a member and non-paying guest who makes a reservation and fails to attend.\n
SUMMARY:Member + 1 Event - Hawaii Estate Planning Council 
PRIORITY:3
BEGIN:VALARM
TRIGGER:PT18H
ACTION:DISPLAY
DESCRIPTION:Reminder
END:VALARM
END:VEVENT
END:VCALENDAR