BEGIN:VCALENDAR
PRODID:-//hacksw/handcal//NONSGML v1.0//EN
VERSION:2.0
METHOD:PUBLISH
BEGIN:VEVENT
DTSTART:20160616T213000Z
DTEND:20160617T000000Z
LOCATION:The Plaza Club
UID:1264120160616T213000ZAvoiding Ethical Dilemmas That Can Destroy Your Practice and Your Life (1 CPA and 1 Legal Ethics credit)
DTSTAMP:20260423T110226Z
DESCRIPTION:\nTIME:\n 11:15 a.m. - Registration\n 11:30 a.m. - BUFFET LUNCH (selections include vegetarian and vegan dishes)\n 12:00 p.m. - Program\n \nRSVP by Thursday, June 9, 2016\n \nCall 521-4015, opt. 1 OR E-mail [hepcouncil@hotmail.com](mailto:hepcouncil@hotmail.co)\n \n(If mailing in your RSVP with payment, please call or email as well.)\n ------\n\n\nAttending?      _____Yes     _____No\n \n \n \nGuest ________________________________________________\n \n\n Guest ________________________________________________\n \nPlease send guest fees ($33.00 per) payable to: HEPC / P. O. Box 1227 / Honolulu  HI  96807.\n  \n \n____________________________________________________________________\n Member's Name and Phone Number\n \n \n \nIt is the Council's policy to charge a $33 no-show fee to a member or guest who makes a reservation and fails to attend.\n
SUMMARY:Avoiding Ethical Dilemmas That Can Destroy Your Practice and Your Life (1 CPA and 1 Legal Ethics credit) - Hawaii Estate Planning Council 
PRIORITY:3
BEGIN:VALARM
TRIGGER:PT18H
ACTION:DISPLAY
DESCRIPTION:Reminder
END:VALARM
END:VEVENT
END:VCALENDAR