BEGIN:VCALENDAR
PRODID:-//hacksw/handcal//NONSGML v1.0//EN
VERSION:2.0
METHOD:PUBLISH
BEGIN:VEVENT
DTSTART:20200228T024500Z
DTEND:20200228T050000Z
LOCATION:UH Stan Sheriff Center, Ewa Hospitality Suite
UID:1887920200228T024500Z"An Insider's Look at the Business of University of Hawai'i Athletics & NCAA Division 1 Sports"
DTSTAMP:20260423T110739Z
DESCRIPTION:\nParking:  NO HOST PARKING $7.00 - Parking Structure\n \n     See attached flyer for directions.\n \nTime:     4:45 pm - Registration\n               5:00 pm - Cocktails\n               5:30 pm - Taco Buffet\n               5:50 pm - 6:45 pm - Program\n               7:00 pm - UH vs. Cal State Fullerton Titans, Men's Basketball Game\n                              Complimens of UH Manoa Athletic Department & UH Foundation\n \nGame:  Game tickets are limited and will be reserved in the order your RSVP is received.\n \nMembers:  Complimentary buffet, admission to game and 1 cocktail (choice of wine, beer or soda)\n \nGuests:  $30 per guest (limit one guest per member)\n \nRSVP by:   Thursday, February 20, 2020 OR\n until all seating and basketball tickets are filled.\nAlso indicate if you are attending both dinner & game OR dinner only.\n Call 521-4015, opt.1 OR E-mail hepcouncil@hotmail.com\n \n\n Attending?    Check “x” one:   _____ Dinner and Game.     ______   Dinner Only\n \nGuest Name(1 limit):   ____________________________  _____ Dinner & Game      _____ Dinner only\n \nPlease send guest fees ($30.00 per) payable to:  HEPC, P. O. Box 1227, Honolulu, HI 96807\n \n\n ____________________________________                      ____________________________\n Member's Name                                                              Phone Number\n \nAny member or guest who makes a reservation and fails to attend will be assessed a $30 no-show fee.\n \n \n
SUMMARY:"An Insider's Look at the Business of University of Hawai'i Athletics & NCAA Division 1 Sports" - Hawaii Estate Planning Council 
PRIORITY:3
BEGIN:VALARM
TRIGGER:PT18H
ACTION:DISPLAY
DESCRIPTION:Reminder
END:VALARM
END:VEVENT
END:VCALENDAR