BEGIN:VCALENDAR
PRODID:-//hacksw/handcal//NONSGML v1.0//EN
VERSION:2.0
METHOD:PUBLISH
BEGIN:VEVENT
DTSTART:20200625T213000Z
DTEND:20200625T223000Z
LOCATION:Virtual Presentation via ZOOM meeting
UID:1933120200625T213000Z"Contested Conservatorship & Guardianship Proceedings" (CE Credits:  CPA and CFP
DTSTAMP:20260423T105912Z
DESCRIPTION:\nHEPC MEMBERS ONLY\n \n**Judge Browning is accepting questions on this topic submitted by June 18, 2020, 12:00 noon.  Please send any questions for Judge to JROP@JenniferEPLaw.com.\n \nRSVP:  TUESDAY, JUNE 23, 2020\n \nPlease refer to your email for the link to the meeting, webinar ID and password.\n \nCPA CE credit:  email edkemp@hawaii.rr.com\n \nCFP CE credit:  email matthew.c.mcconnell@ampf.com your First, Middle Initial, Last name & CFP # or last 4 digits of your SS#"\n \n \n \n \n
SUMMARY:"Contested Conservatorship & Guardianship Proceedings" (CE Credits:  CPA and CFP - Hawaii Estate Planning Council 
PRIORITY:3
BEGIN:VALARM
TRIGGER:PT18H
ACTION:DISPLAY
DESCRIPTION:Reminder
END:VALARM
END:VEVENT
END:VCALENDAR