BEGIN:VCALENDAR
PRODID:-//hacksw/handcal//NONSGML v1.0//EN
VERSION:2.0
METHOD:PUBLISH
BEGIN:VEVENT
DTSTART:20201125T210000Z
DTEND:20201125T223000Z
LOCATION:Virtual presentation via ZOOM
UID:1933520201125T210000Z"Tax Consequences of Cancellation of Debt Income and Abatement/Deferral of Lease Rents"
DTSTAMP:20260419T134407Z
DESCRIPTION:\nHEPC MEMBERS ONLY \n \nNOTE:  This meeting is on Wednesday, instead of Thursday.\n \n \n \nNetworking session:  11:00 a.m.\n \nMeeting:  11:30 a.m. - 12:30 p.m.\n  \n \nPlease refer to your email for the link to the meeting, webinar ID and password.\n \n \n \nRSVP:  MONDAY, NOVEMBER 23, 2020\n \n \n \n \nFor CE credits, email the following members for the appropriate CE form:\n \n   CPA – email [enkemp@hawaii.rr.com](mailto:stephanie.asato@boh.com)\n \n   CFP credit – email [matt@3dwealthadvisors.com ](mailto:matthewc.mcconnell@ampf.com)  [(NEW EMAIL ADDRESS-Matthew McConnell](mailto:matthewc.mcconnell@ampf.com)\n \n                      your First, Middle Initial, Last name & CFP # or last 4 digits of your SS#  \n \n      No  CLE credit (Attorneys) \n \nA video recording will be made available on an individual basis if requested.\n
SUMMARY:"Tax Consequences of Cancellation of Debt Income and Abatement/Deferral of Lease Rents" - Hawaii Estate Planning Council 
PRIORITY:3
BEGIN:VALARM
TRIGGER:PT18H
ACTION:DISPLAY
DESCRIPTION:Reminder
END:VALARM
END:VEVENT
END:VCALENDAR