BEGIN:VCALENDAR
PRODID:-//hacksw/handcal//NONSGML v1.0//EN
VERSION:2.0
METHOD:PUBLISH
BEGIN:VEVENT
DTSTART:20210218T213000Z
DTEND:20210218T230000Z
LOCATION:ZOOM meeting
UID:2069620210218T213000ZNAEPC Webinar Series:  "Post-Election Estate Planning: The Tsunami Continues to Roll In"
DTSTAMP:20260423T110602Z
DESCRIPTION:\nHEPC MEMBERS ONLY \n \nTime:   Networking session:  11:30 - 11:45 a.m.\n \n             Meeting:  11:45 a.m. - 12:45 p.m.\n \n               Post webinar discussion and forum:  12:45 - 1:00 p.m.\n  \n \nPlease refer to your email for the link to the meeting, webinar ID and passcode.\n \n \n
SUMMARY:NAEPC Webinar Series:  "Post-Election Estate Planning: The Tsunami Continues to Roll In" - Hawaii Estate Planning Council 
PRIORITY:3
BEGIN:VALARM
TRIGGER:PT18H
ACTION:DISPLAY
DESCRIPTION:Reminder
END:VALARM
END:VEVENT
END:VCALENDAR