BEGIN:VCALENDAR
PRODID:-//hacksw/handcal//NONSGML v1.0//EN
VERSION:2.0
METHOD:PUBLISH
BEGIN:VEVENT
DTSTART:20210325T213000Z
DTEND:20210325T230000Z
LOCATION:ZOOM  meeting
UID:2069720210325T213000ZHawaii Tax Update (*1 CLE, CFP & CPE CE credit)
DTSTAMP:20260423T105944Z
DESCRIPTION:\nTIME:  11:30 a.m. - 12:00 p.m. - Networking\n \n            12:00 p.m. - 12:45 p.m. - Meeting\n \n            12:45 p.m. - 1:00 p.m. - Q&A\n \n \n \nPlease refer to your email for the link to the meeting, webinar ID and password.\n \n \n \nABOUT THE SPEAKER:  Tom is a tax attorney in solo practice since early 2013.  He was previously with Accuity LLP, the State of Hawaii Department of Taxation as an Administrative Rules Specialist and practiced litigation and tax law with Cades Schutte Fleming & Wright in Honolulu.  He received his Bachelor’s degree in Engineering and Applied Science from Yale College and his Juris Doctor from University of California at Berkeley.  As President of the Tax Foundation, he writes weekly articles on tax topics for various local publications.\n \n \n \nFor CE credits, email the following members for the appropriate CE form:\n \n   CLE (Attorneys) -- email JROP@JenniferEPLaw.com\n \n   CFP credit – email [matt@3dwealthadvisors.com ](mailto:matthewc.mcconnell@ampf.com)  [(NEW EMAIL ADDRESS)](mailto:matthewc.mcconnell@ampf.com) your First, Middle\n                             Initial, Last name & CFP # or last 4 digits of your SS\n \n   CPE credit - email nickchucpa@gmail.com\n \n*A $25 fee will be assessed to guests requesting any CE credit.\n   CE credits are available to members at no additional charge.\n                    Please send $25.00 CE fee payable to: HEPC\n                    P. O. Box 1227 / Honolulu, HI  96807\n \n \n \n \n
SUMMARY:Hawaii Tax Update (*1 CLE, CFP & CPE CE credit) - Hawaii Estate Planning Council 
PRIORITY:3
BEGIN:VALARM
TRIGGER:PT18H
ACTION:DISPLAY
DESCRIPTION:Reminder
END:VALARM
END:VEVENT
END:VCALENDAR