BEGIN:VCALENDAR
PRODID:-//hacksw/handcal//NONSGML v1.0//EN
VERSION:2.0
METHOD:PUBLISH
BEGIN:VEVENT
DTSTART:20210422T213000Z
DTEND:20210422T230000Z
LOCATION:ZOOM meeting
UID:2069820210422T213000Z"Planning for Influencers: Can My Heirs Cash in On My Likes?"  (*1 CLE, CPE, & CFP CE credit)
DTSTAMP:20260423T110335Z
DESCRIPTION:\nRegister in advance for this meeting.  After registering, you will receive a confirmation email containing information about joining the meeting.\n  \n \nTIME:  11:30 a.m. - 12:00 p.m. - Networking\n \n            12:00 p.m. - 12:45 p.m. - Speaker Presentation\n \n            12:45 p.m. - 1:00 p.m. - Q&A\n \n \n \nPlease refer to your email for the link to the meeting, webinar ID and password.\n \n \n \nABOUT THE SPEAKER:  Brian K. Janowsky is Partner and a member of the Private Clients, Trusts and Estates practice group in the New York office of Schiff Hardin LLP.  He regularly advises high net worth clients and families, private equity and hedge fund managers, and closely held business owners on their personal estate and tax planning.  Brian has implemented sophisticated lifetime and testamentary wealth and charitable transfer techniques.  He tailors wealth transfer plans to each client's objectives, always mindful that clients' non-tax goals for their families, businesses, and philanthropic interests are the driving force behind any plan.  He also regularly reviews and advises on tax compliance related to exempt organizations as well as gift, estate and fiduciary income tax matters.  Brian is a frequent writer and speaker on tax and estate planning topics, including at the Hawaii Tax Institute.  He is listed as a "Best Lawyer" in 2021 by U. S. News and World Report and a "Rising Star" in the New York Metro area by Super Lawyers.\n \n \n \nFor CE credits, email the following members for the appropriate CE form:\n \n   CLE (Attorneys) -- email JROP@JenniferEPLaw.com\n \n   CFP credit – email [matt@3dwealthadvisors.com ](mailto:matthewc.mcconnell@ampf.com)  [(NEW EMAIL ADDRESS)](mailto:matthewc.mcconnell@ampf.com) your First, Middle\n                             Initial, Last name & CFP # or last 4 digits of your SS\n \n   CPE credit - email nickchucpa@gmail.com\n \n*A $25 fee will be assessed to guests requesting any CE credit.\n   CE credits are available to members at no additional charge.\n                    Please send $25.00 CE fee payable to: HEPC\n                    P. O. Box 1227 / Honolulu, HI  96807\n \n \n
SUMMARY:"Planning for Influencers: Can My Heirs Cash in On My Likes?"  (*1 CLE, CPE, & CFP CE credit) - Hawaii Estate Planning Council 
PRIORITY:3
BEGIN:VALARM
TRIGGER:PT18H
ACTION:DISPLAY
DESCRIPTION:Reminder
END:VALARM
END:VEVENT
END:VCALENDAR