BEGIN:VCALENDAR
PRODID:-//hacksw/handcal//NONSGML v1.0//EN
VERSION:2.0
METHOD:PUBLISH
BEGIN:VEVENT
DTSTART:20221013T210000Z
DTEND:20221013T230000Z
LOCATION:Elizabeth Fuller Hall - YWCA 1040 Richards Street Honolulu, HI 96813
UID:2267120221013T210000Z"Elections 2022: What You Need to Know"
DTSTAMP:20260423T110141Z
DESCRIPTION:\nTIME:\n 11:00 a.m. - Registration\n \n11:15 a.m. - BUFFET LUNCH\n \n12:00 - 1:00 p.m. Presentation\n \nRSVP by Thursday, September 29, 2022\n \n E-mail hepcouncil@hotmail.com\n \n(If mailing in your RSVP with payment, please email as well.)\n ------\n\n\nAttending?      _____Yes     _____No\n \n \n \nGuest ________________________________________________\n \n\n Guest ________________________________________________\n \nPlease send guest fees ($36.00 per) payable to: HEPC / P. O. Box 1227 / Honolulu  HI  96807.\n  \n \n____________________________________________________________________\n Member's Name and Phone Number\n
SUMMARY:"Elections 2022: What You Need to Know" - Hawaii Estate Planning Council 
PRIORITY:3
BEGIN:VALARM
TRIGGER:PT18H
ACTION:DISPLAY
DESCRIPTION:Reminder
END:VALARM
END:VEVENT
END:VCALENDAR