BEGIN:VCALENDAR
PRODID:-//hacksw/handcal//NONSGML v1.0//EN
VERSION:2.0
METHOD:PUBLISH
BEGIN:VEVENT
DTSTART:20220825T033000Z
DTEND:20220825T063000Z
LOCATION:Natsunoya Tea House
UID:2296620220825T033000ZAnnual August Event - Member +1
DTSTAMP:20260423T110701Z
DESCRIPTION:\nLOCATION:  1935 Makanani Drive / Honolulu, HI 96819 (map attached)\n                    Valet parking $6.00 (tip not included) some street parking\n \nTIME:          5:30 p.m.  Registration / Cocktails & Sushi Bar (Sushi & Hand Rolls)\n                    6:15 p.m.   Dinner\n                    8:30 p.m.   End\n \nDINNER:      Sushi, Rice, Sashimi, Salmon Tofu Salad, Oriental Salad, Spicy\n                    Eggplant, Miso Salmon, Shrimp & Vegetable Termpura, Teriyaki Steak,\n                    Hibachi Chicken & Noodles\n \nDRINKS:      Sake, High End Red & White Wine will be hosted\n                    You many bring your own beer, soda or juice (no corkage)\n \nYour annual dues cover the cost of the evening for you.  Your spouse or guest at $35.\n \nAll attendees must email a copy of their Covid-19 Vaccination card to:\n Stephanie.Asato@boh.com\n This is not applicable for those who attended the HEPC Banquet on April 23, 2022 (vaccine information was previously provided).  Thank you.\n \nRSVP:     WEDNESDAY, AUGUST 10, 2022\n Email:  hepcouncil@hotmail.com\n (If mailing in your RSVP with payment, please email as well.)\n ------\n------\n\nI WILL BE ATTENDING\n\n Print Member's Name:  ____________________________     Tel. ______________\n \nSpouse/Guest(s):  $35 per person\n\n Guest Name:  _________________________________________________\n \nPlease send guest(s) fees by August 17, 2022 ($35 per person) payable to:\n HEPC, P. O. Box 1227, Honolulu, HI 96807.\n \nIt is the Council’s policy to charge a $50 no-show fee to a member and $35 per guest who makes a reservation and fails to attend.\n
SUMMARY:Annual August Event - Member +1 - Hawaii Estate Planning Council 
PRIORITY:3
BEGIN:VALARM
TRIGGER:PT18H
ACTION:DISPLAY
DESCRIPTION:Reminder
END:VALARM
END:VEVENT
END:VCALENDAR