BEGIN:VCALENDAR
PRODID:-//hacksw/handcal//NONSGML v1.0//EN
VERSION:2.0
METHOD:PUBLISH
BEGIN:VEVENT
DTSTART:20230427T210000Z
DTEND:20230427T230000Z
LOCATION:YWCA Fuller Hall
UID:2365020230427T210000Z"End of Life Planning:  It's Always Too Early Until It's Too Late"
DTSTAMP:20260423T110315Z
DESCRIPTION:\n \n \nTIME:\n 11:00 a.m. - Registration\n \n11:15 a.m. - BUFFET LUNCH\n \n12:00 - 1:00 p.m. Presentation:  "End of Life Planning:  It's Always Too Early Until It's Too Late"\n \nWe commonly conduct financial and estate planning well ahead of time, but we frequently leave gaps in planning and communication around some of the most important things that give us peace of mind at life’s close. Often, our loved ones and caregivers are left to make challenging decisions for us without adequate understanding or preparation. This presentation offers tools for broaching and navigating conversations that can sometimes be difficult but remain extremely important. Research shows that this type of thoughtful communication can empower those who will be stewarding our wishes and achieve the peace of mind that comes with having a solid plan in place for dealing with end-of-life choices.\n \nRSVP by Tuesday, April 18, 2023\n \n E-mail hepcouncil@hotmail.com\n \n(If mailing in your RSVP with payment, please email as well.)\n ------\n\n\nAttending?      _____Yes     _____No\n \n \n \nGuest ________________________________________________\n \n\n Guest ________________________________________________\n \nPlease send guest fees ($40.00 per) payable to: HEPC / P. O. Box 1227 / Honolulu  HI  96807.\n  \n \n____________________________________________________________________\n Member's Name and Phone Number\n
SUMMARY:"End of Life Planning:  It's Always Too Early Until It's Too Late" - Hawaii Estate Planning Council 
PRIORITY:3
BEGIN:VALARM
TRIGGER:PT18H
ACTION:DISPLAY
DESCRIPTION:Reminder
END:VALARM
END:VEVENT
END:VCALENDAR