BEGIN:VCALENDAR
PRODID:-//hacksw/handcal//NONSGML v1.0//EN
VERSION:2.0
METHOD:PUBLISH
BEGIN:VEVENT
DTSTART:20231027T031500Z
DTEND:20231027T060000Z
LOCATION:Elizabeth Fuller Hall - YWCA
UID:2365420231027T031500Z"Governor Green's Affordability Plan + Legislative Updates"
DTSTAMP:20260421T082416Z
DESCRIPTION:\n \n \nTIME:\n 5:15 p.m. - Registration / Cocktails\n \n6:00 p.m. - BUFFET DINNER\n \n7:00 - 8:00 p.m. - Speaker Presentation\n \nRSVP by Tuesday, October 17, 2023\n \n E-mail hepcouncil@hotmail.com\n \n(If mailing in your RSVP with payment, please email as well.)\n ------\n\n\nAttending?      _____Yes     _____No\n \n \n \nGuest ________________________________________________\n \n\n Guest ________________________________________________\n \nPlease send guest fees ($50.00 per) payable to: HEPC / P. O. Box 1227 / Honolulu  HI  96807.\n  \n \n____________________________________________________________________\n Member's Name and Phone Number\n
SUMMARY:"Governor Green's Affordability Plan + Legislative Updates" - Hawaii Estate Planning Council 
PRIORITY:3
BEGIN:VALARM
TRIGGER:PT18H
ACTION:DISPLAY
DESCRIPTION:Reminder
END:VALARM
END:VEVENT
END:VCALENDAR