BEGIN:VCALENDAR
PRODID:-//hacksw/handcal//NONSGML v1.0//EN
VERSION:2.0
METHOD:PUBLISH
BEGIN:VEVENT
DTSTART:20240905T210000Z
DTEND:20240906T050000Z
LOCATION:Waikele Country Club
UID:2643320240905T210000Z21st ANNUAL HEPC GOLF TOURNAMENT
DTSTAMP:20260421T120444Z
DESCRIPTION:\n \nCheck-In:  11:00 a.m.\nFirst Tee Time:  12:06 p.m.  (6 tee times)\n \n19th Hole:  Waikele Country Club Restaurant (No-host bar)\n                    94-200 Paioa Place\n                    Waipahu, HI  96797\n                    Phone:  (808) 676-9000\n  \n \nRSVP DEADLINE:  August 29, 2024 (Thursday) or all 24 spots are filled\n \nCost includes:  Golf / Cart fee, Prizes for Closest to the Hole, Blind Team Draw and heavy pupus at 19th Hole at Waikele Country Club Restaurant.  No-host bar.\n \nATTIRE:   Collar Shirt & Soft Spike Shoes required\n \nQUESTIONS:  Contact Daniel Vermillion at 808-521-9219 or email dvermillion@cades.com\n \nWe welcome any type of donations (golf balls, caps, towels, umbrellas, wine, gift cards, cash, etc.) from all HEPC members even if you are unable to join us.  There are also sponsorship opportunities for Long Drive and Closest to the Hole.\n \nPlease contact Daniel Vermillion at dvermillion@cades.com for donations or sponsorship.\n \n- - - - - - - - - -- - - - -  CUT HERE - - - - - - - - -  - - - - - -  CUT HERE - - - - - - - - -\n \nCOMPLETE THE FOLLOWING AND MAIL IN WITH YOUR PAYMENT\n \nPrint Your Name:  _________________________________________________\n \nEstablished handicap _________   or rough Handicap __________   for blind pairing purposes\n \nGuest Name:  _________________________________________________\n \nEstablished handicap _________   or rough Handicap __________   for blind pairing purposes\n \n      #________ @ $115                         $__________\n       #________ @ $115 Guest              $__________\n                          Total Enclosed              $__________\n \nMail registration form and check payable to "HAWAII ESTATE PLANNING COUNCIL" to:\n \nDaniel Vermillion\n 1000 Bishop Street, Suite 1200\n Honolulu,  HI  96813\n
SUMMARY:21st ANNUAL HEPC GOLF TOURNAMENT - Hawaii Estate Planning Council 
PRIORITY:3
BEGIN:VALARM
TRIGGER:PT18H
ACTION:DISPLAY
DESCRIPTION:Reminder
END:VALARM
END:VEVENT
END:VCALENDAR