BEGIN:VCALENDAR
PRODID:-//hacksw/handcal//NONSGML v1.0//EN
VERSION:2.0
METHOD:PUBLISH
BEGIN:VEVENT
DTSTART:20270504T010000Z
DTEND:20270504T000000Z
LOCATION:Saddlebrook Resort I Tampa, Florida
UID:2944020270504T010000ZNAEPC Estate Planners Forum
DTSTAMP:20260421T161146Z
DESCRIPTION:\n\n  \n \n[Visit the Estate Planners Forum Website for More Information >](https://www.estateplannersforum.org/)\n
SUMMARY:NAEPC Estate Planners Forum - Hawaii Estate Planning Council 
PRIORITY:3
BEGIN:VALARM
TRIGGER:PT18H
ACTION:DISPLAY
DESCRIPTION:Reminder
END:VALARM
END:VEVENT
END:VCALENDAR