BEGIN:VCALENDAR
PRODID:-//hacksw/handcal//NONSGML v1.0//EN
VERSION:2.0
METHOD:PUBLISH
BEGIN:VEVENT
DTSTART:20110325T031500Z
DTEND:20110325T060000Z
LOCATION:The Plaza Club, 20th Floor
UID:377320110325T031500ZHollywood to Hawaii 5-0:  Implications of Leaving a Community Property State"  (1 CE CREDIT)
DTSTAMP:20260423T110036Z
DESCRIPTION:
SUMMARY:Hollywood to Hawaii 5-0:  Implications of Leaving a Community Property State"  (1 CE CREDIT) - Hawaii Estate Planning Council 
PRIORITY:3
BEGIN:VALARM
TRIGGER:PT18H
ACTION:DISPLAY
DESCRIPTION:Reminder
END:VALARM
END:VEVENT
END:VCALENDAR