BEGIN:VCALENDAR
PRODID:-//hacksw/handcal//NONSGML v1.0//EN
VERSION:2.0
METHOD:PUBLISH
BEGIN:VEVENT
DTSTART:20110624T031500Z
DTEND:20110624T060000Z
LOCATION:Plaza Club, 20th Floor
UID:377420110624T031500ZKailua's Future, Is It on "Target"? A Delicate Balancing Act for Kaneohe Ranch 
DTSTAMP:20260423T110057Z
DESCRIPTION:
SUMMARY:Kailua's Future, Is It on "Target"? A Delicate Balancing Act for Kaneohe Ranch  - Hawaii Estate Planning Council 
PRIORITY:3
BEGIN:VALARM
TRIGGER:PT18H
ACTION:DISPLAY
DESCRIPTION:Reminder
END:VALARM
END:VEVENT
END:VCALENDAR