BEGIN:VCALENDAR
PRODID:-//hacksw/handcal//NONSGML v1.0//EN
VERSION:2.0
METHOD:PUBLISH
BEGIN:VEVENT
DTSTART:20120122T033000Z
DTEND:20120122T064500Z
LOCATION:Waialae Country Club
UID:533820120122T033000ZAnnual Banquet - A Coat and Tie Affair
DTSTAMP:20260423T082209Z
DESCRIPTION:\nTime:   5:30 - 6:30 p.m. - No Host Cocktails\n             6:30 p.m. - Prime Rib Seafood Buffet (wine included)\n             7:45 p.m. - Business Meeting\n             8:00 - 8:45 p.m. - Entertainment\n                                          Stand-Up Comedian, Bo Irvine\n\n The Business portion of the meeting will consider the nominations of the officers and directors for 2012 followed by the election.  The nominees are:\n \n                   President:  Beth Fong\n            Vice President:  Marilyn Gagen\n                   Secretary:  Rosemarie Sam\n                   Treasurer:  Frances Lui-Kwan\n \n           New Directors:  Charles Au, CPA              Grace Yonehara, Trust Officer\n                                      Chris Worrall, CLU           Eric Young, Attorney\n \nCarry Over Directors:  Stephanie Asato               Cynthia Schnack Lee\n                                      Michael Coppes               John Maughan\n                                      Gwen Fukuyama              Kimo Todd\n                                      Eddy N. Kemp\n \nPast President:            Joy Miyasaki\n Historian:                      Walter J. Mensching\n \nYour annual dues cover the cost of the evening for you and one guest.  The cost of each additional guest is $65.00, payment may be sent to:  HEPC, P. O. Box 1227, Honolulu, HI 96807.  Payment must be received by Wednesday, January 18, 2012.\n \nIf you indicate that you will be attending, please do not be a "no-show".  No-shows will be charged $55.00 per person.  The additional guest fee of $65.00 is non-refundable.\n \nRSVP by Monday, January 16, 2012:  Call 521-4015, ext. 1,or E-mail hepcouncil@hotmail.com.\n \nI WILL BE ATTENDING THE JANUARY EVENT:\n \nMember:  _____________________________________________________________\n \nGuest Name:  __________________________________________________________\n \nAdditional Guests ($65 per person):  ________________________________________\n \n                                                           ________________________________________\n \n \n \n \n
SUMMARY:Annual Banquet - A Coat and Tie Affair - Hawaii Estate Planning Council 
PRIORITY:3
BEGIN:VALARM
TRIGGER:PT18H
ACTION:DISPLAY
DESCRIPTION:Reminder
END:VALARM
END:VEVENT
END:VCALENDAR