BEGIN:VCALENDAR
PRODID:-//hacksw/handcal//NONSGML v1.0//EN
VERSION:2.0
METHOD:PUBLISH
BEGIN:VEVENT
DTSTART:20130301T031500Z
DTEND:20130301T044500Z
LOCATION:University of Hawaii - Stan Sheriff Center
UID:731320130301T031500Z"It's About Time - The Story of Our Calendar"
DTSTAMP:20260423T110036Z
DESCRIPTION:\nPlace:    Stan Sheriff Center – Ewa Hospitality Suite\n \n                                $6.00 event parking (no host)\n \n Time:     5:15 pm cocktails (includes 1 complimentary cocktail)\n \n                5:30 pm Taco Buffet\n \n                5:50 pm – 6:45 Ben Jay, Athletic Director\n \n                                           Joseph Ciotti, Professor of Physics, Astronomy & Mathematics\n \nGame:   7:00 UH Men’s Basketball game -  Rainbow Warriors vs UC Santa Barbara – complimentary\n \n \n \n                RSVP:   by February 19, 2013 or first 50 as space is limited.\n \n                              Please indicate if you will be attending the Basketball game\n \n                              Limit 1 guest at $28\n \n \n
SUMMARY:"It's About Time - The Story of Our Calendar" - Hawaii Estate Planning Council 
PRIORITY:3
BEGIN:VALARM
TRIGGER:PT18H
ACTION:DISPLAY
DESCRIPTION:Reminder
END:VALARM
END:VEVENT
END:VCALENDAR