BEGIN:VCALENDAR
PRODID:-//hacksw/handcal//NONSGML v1.0//EN
VERSION:2.0
METHOD:PUBLISH
BEGIN:VEVENT
DTSTART:20130524T031500Z
DTEND:20130524T060000Z
LOCATION:Plaza Club, 20th Floor
UID:731520130524T031500ZDeconstructing the Descendants
DTSTAMP:20260423T105912Z
DESCRIPTION:\nTOPIC:  Deconstructing The Descendants:  How George Clooney Ennobled Old Hawaiian Trusts and Made the Rule Against Perpetuities Sexy"  (1 CE Credit)\n \nTIME:   5:15 p.m. - No Host Cocktails\n              6:15 p.m. - Buffet Dinner\n \nRSVP:  Monday, May 20, 2013\n\n Call 521-4015, opt.1 OR E-mail hepcouncil@hotmail.com\n ------\n\n  Attending?                Yes          No     (circle one)         \n \n        Guest(s)        ________________________________________ \n \n \n                                      ____________________________________\n\n \n \n \nPlease send guest fees ($30.00 per) payable to: HEPC c/o 1133 Waimanu Street, #1902, Honolulu, HI  96814.\n \n \n________________________________________\n\n \n         Member’s Name  \n\n   It is the Council’s policy to charge a $30 no-show fee to a member who makes a reservation and fails to attend.\n \n \n \n                                                                  \n \n \n \n \n \n \n \n \n
SUMMARY:Deconstructing the Descendants - Hawaii Estate Planning Council 
PRIORITY:3
BEGIN:VALARM
TRIGGER:PT18H
ACTION:DISPLAY
DESCRIPTION:Reminder
END:VALARM
END:VEVENT
END:VCALENDAR